BEGIN:VCALENDAR
VERSION:2.0
PRODID:icalendar-ruby
CALSCALE:GREGORIAN
METHOD:PUBLISH
BEGIN:VEVENT
DTSTAMP:20260420T113735Z
UID:20-399433@newlifeconcord.org
DTSTART:20260425T123000Z
DTEND:20260425T160000Z
CLASS:PUBLIC
CREATED:20260419T193556
DESCRIPTION:
LAST-MODIFIED:20260419T193556
LOCATION:
SUMMARY:Leadership- All Training
URL;VALUE=URI:https://www.newlifeconcord.org/events/leadership-all-training
 /2026-04-25
ATTACH;FILENAME=NLBC-Leadership-Training_4_25_26.jpg;FMTTYPE=image/jpeg:htt
 ps://dq5pwpg1q8ru0.cloudfront.net/2026/04/19/23/35/56/f1fbd278-0e12-4cf2-a
 cbb-081a9865f9d1/NLBC-Leadership-Training_4_25_26.jpg
END:VEVENT
END:VCALENDAR
